BEGIN:VCALENDAR
VERSION:2.0
CALSCALE:GREGORIAN
PRODID:-//MyApp//Calendar 1.0//EN
BEGIN:VEVENT
METHOD:PUBLISH
UID:32375@regionalniportaly.cz
DTSTAMP:20260422T040909Z
DTSTART;VALUE=DATE:20230421
DTEND;VALUE=DATE:20230422
SUMMARY:Jarní zábava
DESCRIPTION:Jarní taneční zábava&nbsp\;za zvuku klasického rokenrolu.&nbsp\;
LOCATION:Nebovidy
END:VEVENT
END:VCALENDAR