BEGIN:VCALENDAR
VERSION:2.0
CALSCALE:GREGORIAN
PRODID:-//MyApp//Calendar 1.0//EN
BEGIN:VEVENT
METHOD:PUBLISH
UID:32143@regionalniportaly.cz
DTSTAMP:20260422T040850Z
DTSTART;VALUE=DATE:20230610
DTEND;VALUE=DATE:20230611
SUMMARY:Zbýšovské folkové léto / Pozdní sběr + Nerez a Lucia
DESCRIPTION:
LOCATION:Zbýšov
END:VEVENT
END:VCALENDAR