BEGIN:VCALENDAR
VERSION:2.0
CALSCALE:GREGORIAN
PRODID:-//MyApp//Calendar 1.0//EN
BEGIN:VEVENT
METHOD:PUBLISH
UID:32104@regionalniportaly.cz
DTSTAMP:20260422T023938Z
DTSTART;VALUE=DATE:20230504
DTEND;VALUE=DATE:20230505
SUMMARY:Světáci
DESCRIPTION:
LOCATION:Zbýšov
END:VEVENT
END:VCALENDAR