BEGIN:VCALENDAR
VERSION:2.0
CALSCALE:GREGORIAN
PRODID:-//MyApp//Calendar 1.0//EN
BEGIN:VEVENT
METHOD:PUBLISH
UID:32095@regionalniportaly.cz
DTSTAMP:20260425T205922Z
DTSTART;VALUE=DATE:20230701
DTEND;VALUE=DATE:20230702
SUMMARY:Pokáč - Zámek Rosice
DESCRIPTION:V sobotu&nbsp\;1.7&nbsp\;2023&nbsp\;se vrací&nbsp\;na zámek&nbsp\;v Rosicích u Brna ¨Pokáč¨.Většina koncertních sálů\, kam Pokáč míří\, včetně Fóra Karlín či O2 arény\, bývá beznadějně vyprodána.Harmonogram :18:00 Otevření areálu19:30 Patrik Malý20:30 Pokáč22:00 Autogramiáda&nbsp\;VSTUPENKY :&nbsp\;Do 5 let - Zdarma5 - 10 let -&nbsp\;250\,-11 - 99 let -&nbsp\;420\,-100 a více - dohodou
LOCATION:Rosice
END:VEVENT
END:VCALENDAR