BEGIN:VCALENDAR
VERSION:2.0
CALSCALE:GREGORIAN
PRODID:-//MyApp//Calendar 1.0//EN
BEGIN:VEVENT
METHOD:PUBLISH
UID:32094@regionalniportaly.cz
DTSTAMP:20260422T072515Z
DTSTART;VALUE=DATE:20230518
DTEND;VALUE=DATE:20230519
SUMMARY:Úča musí pryč
DESCRIPTION:
LOCATION:Zbýšov
END:VEVENT
END:VCALENDAR